BEGIN:VCALENDAR
VERSION:2.0
PRODID:-//Experience Tukwila - ECPv6.15.17//NONSGML v1.0//EN
CALSCALE:GREGORIAN
METHOD:PUBLISH
X-WR-CALNAME:Experience Tukwila
X-ORIGINAL-URL:https://experiencetukwila.com
X-WR-CALDESC:Events for Experience Tukwila
REFRESH-INTERVAL;VALUE=DURATION:PT1H
X-Robots-Tag:noindex
X-PUBLISHED-TTL:PT1H
BEGIN:VTIMEZONE
TZID:America/Los_Angeles
BEGIN:DAYLIGHT
TZOFFSETFROM:-0800
TZOFFSETTO:-0700
TZNAME:PDT
DTSTART:20250309T100000
END:DAYLIGHT
BEGIN:STANDARD
TZOFFSETFROM:-0700
TZOFFSETTO:-0800
TZNAME:PST
DTSTART:20251102T090000
END:STANDARD
BEGIN:DAYLIGHT
TZOFFSETFROM:-0800
TZOFFSETTO:-0700
TZNAME:PDT
DTSTART:20260308T100000
END:DAYLIGHT
BEGIN:STANDARD
TZOFFSETFROM:-0700
TZOFFSETTO:-0800
TZNAME:PST
DTSTART:20261101T090000
END:STANDARD
BEGIN:DAYLIGHT
TZOFFSETFROM:-0800
TZOFFSETTO:-0700
TZNAME:PDT
DTSTART:20270314T100000
END:DAYLIGHT
BEGIN:STANDARD
TZOFFSETFROM:-0700
TZOFFSETTO:-0800
TZNAME:PST
DTSTART:20271107T090000
END:STANDARD
END:VTIMEZONE
BEGIN:VEVENT
DTSTART;TZID=America/Los_Angeles:20260424T190000
DTEND;TZID=America/Los_Angeles:20260424T190000
DTSTAMP:20260424T032759
CREATED:20260227T160013Z
LAST-MODIFIED:20260227T160013Z
UID:16131-1777057200-1777057200@experiencetukwila.com
SUMMARY:Seattle Seawolves vs. Chicago Hounds
DESCRIPTION:The Chicago Hounds head to Starfire for a fast\, physical showdown that’s quickly becoming one of Major League Rugby’s most competitive new rivalries. \nEvery meeting between these two clubs has been decided by 11 points or fewer\, but Seattle remains unbeaten at home in the series. That combination sets the stage for a tight\, high-intensity battle driven by pace\, pressure\, and momentum swings that keep fans on their feet. \nWith Seattle defending a perfect home record against Chicago and both teams eager to make an early-season statement\, expect another edge-of-your-seat finish. \nBe there when it happens — and help push the Seawolves over the line.
URL:https://experiencetukwila.com/event/seattle-seawolves-vs-chicago-hounds/
LOCATION:Starfire Sports\, 14800 Starfire Way\, Tukwila\, WA\, 98188\, United States
CATEGORIES:Sports
ATTACH;FMTTYPE=image/jpeg:https://experiencetukwila.com/wp-content/uploads/2026/02/SEAW76090_01_05_v2.jpg
ORGANIZER;CN="Seattle Seawolves":MAILTO:info@seawolves.rugby
END:VEVENT
BEGIN:VEVENT
DTSTART;TZID=America/Los_Angeles:20260425T100000
DTEND;TZID=America/Los_Angeles:20260425T170000
DTSTAMP:20260424T032759
CREATED:20260416T234842Z
LAST-MODIFIED:20260416T234842Z
UID:16180-1777111200-1777136400@experiencetukwila.com
SUMMARY:Runway to Runway Opening Day
DESCRIPTION:Enjoy a full day of fashion\, history and hands-on fun in celebration of the opening of the Museum of Flights’s new temporary exhibition\, Runway to Runway: Styles and Stories of Flight Attendant Fashions. \nStep into the world of flight attendants past and present with: \n\n\n\nAn inspirational and educational screening of the PBS documentary film\, Fly With Me\, which tells the story of how flight attendants fought sexist and unfair working conditions to change the airline industry from the inside out.\nA live musical performance from the collective behind the soundtrack to the exhibit\, Kate Voss & The Corner Booth Club.\n“Beauty and Duty”\, a special display of women’s military uniforms highlighting service\, identity\, and change over time.\nAn engaging scarf-decorating workshop\, inspired by iconic cabin-crew fashions.\nLive screen printing demonstrations from Fingers Duke. Watch a design come to life before your eyes!\nThe opportunity to hear firsthand accounts from two flight attendants featured in the exhibit.\nAccess to the Runway to Runway exhibit\, where uniforms\, accessories and hands-on interactive experiences bring to life the stories and personal accounts of life as a flight attendant.\n\n\n\nFrom fashion lovers and history buffs to curious kids and aviation fanatics\, there’s something for everyone! The Runway to Runway exhibit and all opening day activities are FREE for Museum Members and included with the cost of General Admission.
URL:https://experiencetukwila.com/event/runway-to-runway-opening-day/
LOCATION:Museum of Flight\, 9404 E Marginal Way S\, Tukwila\, WA\, 98108\, United States
CATEGORIES:Arts & Culture,Museum of Flight
ATTACH;FMTTYPE=image/png:https://experiencetukwila.com/wp-content/uploads/2026/04/Screenshot-2026-04-15-at-3.21.14-PM.png
ORGANIZER;CN="Museum of Flight":MAILTO:info@museumofflight.org
END:VEVENT
BEGIN:VEVENT
DTSTART;TZID=America/Los_Angeles:20260517T130000
DTEND;TZID=America/Los_Angeles:20260517T130000
DTSTAMP:20260424T032759
CREATED:20260417T235156Z
LAST-MODIFIED:20260417T235156Z
UID:16163-1779022800-1779022800@experiencetukwila.com
SUMMARY:Seattle Seawolves vs. Anthem RC
DESCRIPTION:The Seawolves host Anthem RC on Sunday\, May 17th. This one is sure to set the stage for another high-tempo contest backed by the energy of Starfire. \nThe Seawolves will be out for revenge\, having lost the first matchup against Anthem earlier in the season. But this ones on our home turf at Starfire and we’ll be ready to cheer them to victory. Don’t miss your chance to be in the stands and feel it unfold live. \nHelp us cheer on the Seawolves at home! Grab your tickets now.
URL:https://experiencetukwila.com/event/seattle-seawolves-vs-anthem-rc/
LOCATION:Starfire Sports\, 14800 Starfire Way\, Tukwila\, WA\, 98188\, United States
CATEGORIES:Sports
ATTACH;FMTTYPE=image/jpeg:https://experiencetukwila.com/wp-content/uploads/2026/04/670965523_1862746164715752_2938386298765028321_n.jpg
ORGANIZER;CN="Seattle Seawolves":MAILTO:info@seawolves.rugby
END:VEVENT
BEGIN:VEVENT
DTSTART;TZID=America/Los_Angeles:20260522T220000
DTEND;TZID=America/Los_Angeles:20260522T233000
DTSTAMP:20260424T032759
CREATED:20260423T152909Z
LAST-MODIFIED:20260423T152909Z
UID:16209-1779487200-1779492600@experiencetukwila.com
SUMMARY:Tacoma Defiance vs Ventura County
DESCRIPTION:Tacoma Defiance is going head to head to Venture County FC on May 22\, 2026 at 10pm at Starfire Sports Stadium. The match is a part of the MLS Next Pro. \nThe Tacoma Defiance is an American professional soccer team based in Tukwila that competes in MLS Next Pro\, a league in the third tier of the United States soccer league system\, as the reserve team of Seattle Sounders FC. \nTickets are available at the gate.
URL:https://experiencetukwila.com/event/tacoma-defiance-vs-ventura-county/
LOCATION:Starfire Sports\, 14800 Starfire Way\, Tukwila\, WA\, 98188\, United States
CATEGORIES:Sports
ATTACH;FMTTYPE=image/webp:https://experiencetukwila.com/wp-content/uploads/2022/03/TacomaDefiance.webp
ORGANIZER;CN="Tacoma Defiance":MAILTO:Tickets@WeRTacoma.com
END:VEVENT
BEGIN:VEVENT
DTSTART;VALUE=DATE:20260530
DTEND;VALUE=DATE:20260601
DTSTAMP:20260424T032759
CREATED:20260423T153115Z
LAST-MODIFIED:20260423T154018Z
UID:16207-1780099200-1780271999@experiencetukwila.com
SUMMARY:Rainier Symphony: Symphonic Pops!
DESCRIPTION:Founded in 1981\, the 70+ member community orchestra has been performing for South King County audiences for more than four decades. Their orchestra draws from a wide range of vocations and professions; people who see music as an avocation and who love music. \nJoin them at the Foster Performing Arts Center for a program featuring music by Richard Strauss\, Gioachino Rossini\, Franz Liszt\, Pyotr Ilyich Tchaikovsky\, Richard Wagner\, Stephen Schwartz\, and John Williams. \nPerformance dates: \n\n\n\nSaturday\, May 30 at 6:30 PM\nSaturday\, May 31 at 3:00 PM\n\n\n\nA perfect summer night (or afternoon) of live orchestral music—don’t miss it! \nTickets are available here\, and include discounts for students and seniors.
URL:https://experiencetukwila.com/event/rainier-symphony-symphonic-pops/
LOCATION:Foster Performing Arts Center\, 4242 S 144th St.\, Tukwila\, WA\, 98168\, United States
CATEGORIES:Live Show
ATTACH;FMTTYPE=image/jpeg:https://experiencetukwila.com/wp-content/uploads/2025/10/RainierSymphony.jpeg
ORGANIZER;CN="Rainier Symphony":MAILTO:questions@RainierSymphony.org
END:VEVENT
BEGIN:VEVENT
DTSTART;TZID=America/Los_Angeles:20260531T170000
DTEND;TZID=America/Los_Angeles:20260531T170000
DTSTAMP:20260424T032759
CREATED:20260416T235926Z
LAST-MODIFIED:20260416T235926Z
UID:16165-1780246800-1780246800@experiencetukwila.com
SUMMARY:Seattle Seawolves vs. Free Jacks
DESCRIPTION:The Free Jacks return to Starfire on Sunday\, May 31st\, for one of the Seawolves’ most intense and competitive fixtures on the schedule. With New England holding a narrow scoring edge in the series and every recent meeting decided by a single score\, this matchup brings playoff-level physicality and the kind of atmosphere that turns close moments into defining ones. \nWith both clubs known for tight finishes and big-match energy\, this year’s meeting with the Free Jacks is set to deliver another high-stakes chapter in a rivalry that always comes down to the details. Be there to feel the momentum shifts and help push Seattle through in one of the season’s most anticipated home clashes. \nGrab your tickets now and cheer on the Seawolves!
URL:https://experiencetukwila.com/event/seattle-seawolves-vs-free-jacks/
LOCATION:Starfire Sports\, 14800 Starfire Way\, Tukwila\, WA\, 98188\, United States
CATEGORIES:Sports
ATTACH;FMTTYPE=image/jpeg:https://experiencetukwila.com/wp-content/uploads/2026/04/SW_vs_FreeJacks-1.jpg
ORGANIZER;CN="Seattle Seawolves":MAILTO:info@seawolves.rugby
END:VEVENT
BEGIN:VEVENT
DTSTART;TZID=America/Los_Angeles:20260606T140000
DTEND;TZID=America/Los_Angeles:20260606T160000
DTSTAMP:20260424T032759
CREATED:20260416T235943Z
LAST-MODIFIED:20260416T235943Z
UID:16177-1780754400-1780761600@experiencetukwila.com
SUMMARY:Seattle FlyDogs
DESCRIPTION:Hosted by the Museum of Flight\, dogs of all breeds catch air in these exciting displays of caped canine athletics. In between the shows\, enjoy a meet and greet with the furry athletes and their trainers.\n\nFREE with Membership and included with general admission. Please note that Seattle FlyDogs are invited guests of the Museum. Only service animals are allowed in the Museum.
URL:https://experiencetukwila.com/event/seattle-flydogs/
LOCATION:Museum of Flight\, 9404 E Marginal Way S\, Tukwila\, WA\, 98108\, United States
CATEGORIES:Museum of Flight
ATTACH;FMTTYPE=image/png:https://experiencetukwila.com/wp-content/uploads/2026/04/Screenshot-2026-04-15-at-3.16.53-PM.png
ORGANIZER;CN="Museum of Flight":MAILTO:info@museumofflight.org
END:VEVENT
BEGIN:VEVENT
DTSTART;TZID=America/Los_Angeles:20260607T180000
DTEND;TZID=America/Los_Angeles:20260607T180000
DTSTAMP:20260424T032759
CREATED:20260416T235955Z
LAST-MODIFIED:20260416T235955Z
UID:16171-1780855200-1780855200@experiencetukwila.com
SUMMARY:Seattle Seawolves vs. California Legion
DESCRIPTION:The California Legion make their first trip to Starfire as a newly formed club with a rebuilt roster and a fresh identity. With two organizations merging into one and a completely new lineup taking shape\, this matchup brings an exciting level of unpredictability and a chance for Seattle to set the tone in a brand-new West Coast rivalry. \nWith a new opponent on the schedule and no past meetings to draw from\, this showdown carries a true wild-card feel that’s sure to energize Starfire from the opening whistle. Don’t miss the chance to be part of the first chapter in a rivalry that could define the seasons ahead. \n 
URL:https://experiencetukwila.com/event/seattle-seawolves-vs-california-legion/
LOCATION:Starfire Sports\, 14800 Starfire Way\, Tukwila\, WA\, 98188\, United States
CATEGORIES:Sports
ATTACH;FMTTYPE=image/jpeg:https://experiencetukwila.com/wp-content/uploads/2026/04/SW_vs_CALegion-1.jpg
ORGANIZER;CN="Seattle Seawolves":MAILTO:info@seawolves.rugby
END:VEVENT
BEGIN:VEVENT
DTSTART;TZID=America/Los_Angeles:20260617T220000
DTEND;TZID=America/Los_Angeles:20260617T233000
DTSTAMP:20260424T032759
CREATED:20260423T152824Z
LAST-MODIFIED:20260423T152824Z
UID:16211-1781733600-1781739000@experiencetukwila.com
SUMMARY:Tacoma Defiance vs Houston Dynamo 2
DESCRIPTION:Tacoma Defiance is going head to head to Houston Dynamo 2 FC on June 17\, 2026 at 10pm at Starfire Sports Stadium. The match is a part of the MLS Next Pro. \nThe Tacoma Defiance is an American professional soccer team based in Tukwila that competes in MLS Next Pro\, a league in the third tier of the United States soccer league system\, as the reserve team of Seattle Sounders FC. \nTickets are available at the gate.
URL:https://experiencetukwila.com/event/tacoma-defiance-vs-houston-dynamo-2/
LOCATION:Starfire Sports\, 14800 Starfire Way\, Tukwila\, WA\, 98188\, United States
CATEGORIES:Sports
ATTACH;FMTTYPE=image/webp:https://experiencetukwila.com/wp-content/uploads/2022/03/TacomaDefiance.webp
ORGANIZER;CN="Tacoma Defiance":MAILTO:Tickets@WeRTacoma.com
END:VEVENT
BEGIN:VEVENT
DTSTART;TZID=America/Los_Angeles:20260620T100000
DTEND;TZID=America/Los_Angeles:20260620T140000
DTSTAMP:20260424T032759
CREATED:20260417T000047Z
LAST-MODIFIED:20260417T000237Z
UID:16183-1781949600-1781964000@experiencetukwila.com
SUMMARY:Ayame Kai Summer Market
DESCRIPTION:Join us for a vibrant day of shopping and fun at the Ayame Kai Summer Market! Browse the curated selection of Asian vintage goods\, handmade items\, and local vendors. Enjoy the festive atmosphere featuring a bake sale\, raffle\, and live music & hula performances throughout the day.\n\nThis year\, the market is at the Tukwila Community Center in the outdoor parking area\, offering more space to explore\, shop\, and gather. Proceeds from the market support the programs and residents of Keiro Northwest\, including Nikkei Manor and Kokoro Kai Adult Day Program.
URL:https://experiencetukwila.com/event/ayame-kai-summer-market/
LOCATION:Tukwila Community Center\, 12424 42nd Ave S\, Tukwila\, WA\, 98168\, United States
CATEGORIES:Arts & Culture,Community
ATTACH;FMTTYPE=image/jpeg:https://experiencetukwila.com/wp-content/uploads/2025/11/Camas.jpeg
END:VEVENT
BEGIN:VEVENT
DTSTART;TZID=America/Los_Angeles:20260621T220000
DTEND;TZID=America/Los_Angeles:20260621T233000
DTSTAMP:20260424T032759
CREATED:20260423T152925Z
LAST-MODIFIED:20260423T152925Z
UID:16213-1782079200-1782084600@experiencetukwila.com
SUMMARY:Tacoma Defiance vs Real Monarchs
DESCRIPTION:Tacoma Defiance is going head to head to Real Monarchs FC on June 21\, 2026 at 10pm at Starfire Sports Stadium. The match is a part of the MLS Next Pro. \nThe Tacoma Defiance is an American professional soccer team based in Tukwila that competes in MLS Next Pro\, a league in the third tier of the United States soccer league system\, as the reserve team of Seattle Sounders FC. \nTickets are available at the gate.
URL:https://experiencetukwila.com/event/tacoma-defiance-vs-real-monarchs/
LOCATION:Starfire Sports\, 14800 Starfire Way\, Tukwila\, WA\, 98188\, United States
CATEGORIES:Sports
ATTACH;FMTTYPE=image/webp:https://experiencetukwila.com/wp-content/uploads/2022/03/TacomaDefiance.webp
ORGANIZER;CN="Tacoma Defiance":MAILTO:Tickets@WeRTacoma.com
END:VEVENT
BEGIN:VEVENT
DTSTART;VALUE=DATE:20260719
DTEND;VALUE=DATE:20260831
DTSTAMP:20260424T032759
CREATED:20260423T154415Z
LAST-MODIFIED:20260423T154415Z
UID:16204-1784419200-1788134399@experiencetukwila.com
SUMMARY:Tukwila Farmers Market and Weekend Concert Series
DESCRIPTION:Every Sunday from July 19th through August 20th\, stop by the Tukwila Community Center to explore the amazing local vendors popping up at the weekly Farmers Market and Weekend Concert Series. The market is open 10am-2pm and will feature slightly different vendors each week. Vendors include local farmers\, food trucks\, and artisans and crafters. You can find a breakdown of vendors and music on the event website here.
URL:https://experiencetukwila.com/event/tukwila-farmers-market-and-weekend-concert-series/
LOCATION:Tukwila Community Center\, 12424 42nd Ave S\, Tukwila\, WA\, 98168\, United States
CATEGORIES:Arts & Culture,Community
ATTACH;FMTTYPE=image/jpeg:https://experiencetukwila.com/wp-content/uploads/2025/07/Tukwila_FarmersMarket.jpeg
ORGANIZER;CN="Tukwila Parks and Recreation":MAILTO:ParksRec@TukwilaWA.gov
END:VEVENT
END:VCALENDAR