BEGIN:VCALENDAR
VERSION:2.0
PRODID:-//Experience Tukwila - ECPv6.15.17//NONSGML v1.0//EN
CALSCALE:GREGORIAN
METHOD:PUBLISH
X-ORIGINAL-URL:https://experiencetukwila.com
X-WR-CALDESC:Events for Experience Tukwila
REFRESH-INTERVAL;VALUE=DURATION:PT1H
X-Robots-Tag:noindex
X-PUBLISHED-TTL:PT1H
BEGIN:VTIMEZONE
TZID:America/Los_Angeles
BEGIN:DAYLIGHT
TZOFFSETFROM:-0800
TZOFFSETTO:-0700
TZNAME:PDT
DTSTART:20240310T100000
END:DAYLIGHT
BEGIN:STANDARD
TZOFFSETFROM:-0700
TZOFFSETTO:-0800
TZNAME:PST
DTSTART:20241103T090000
END:STANDARD
BEGIN:DAYLIGHT
TZOFFSETFROM:-0800
TZOFFSETTO:-0700
TZNAME:PDT
DTSTART:20250309T100000
END:DAYLIGHT
BEGIN:STANDARD
TZOFFSETFROM:-0700
TZOFFSETTO:-0800
TZNAME:PST
DTSTART:20251102T090000
END:STANDARD
BEGIN:DAYLIGHT
TZOFFSETFROM:-0800
TZOFFSETTO:-0700
TZNAME:PDT
DTSTART:20260308T100000
END:DAYLIGHT
BEGIN:STANDARD
TZOFFSETFROM:-0700
TZOFFSETTO:-0800
TZNAME:PST
DTSTART:20261101T090000
END:STANDARD
END:VTIMEZONE
BEGIN:VEVENT
DTSTART;VALUE=DATE:20251002
DTEND;VALUE=DATE:20251026
DTSTAMP:20260421T232207
CREATED:20250829T161357Z
LAST-MODIFIED:20250829T161649Z
UID:15904-1759363200-1761436799@experiencetukwila.com
SUMMARY:Haunted Escape Room at Maeve’s Chocolate Factory
DESCRIPTION:Step inside Maeve’s Chocolate Factory this Halloween for an adventure that’s equal parts spooky and sweet. Guided by the patron saint of Moon Rocks flavor\, Greg Glitter\, you’ll journey to a haunted planet in search of the legendary cosmic cacao. \nBut beware—it won’t be easy. To complete Greg’s mission\, your group will need to: \n\n\n\nSolve clever puzzles\nNavigate the eerie ghostly garden\nUnlock the secrets of the factory\n\n\n\nThis 50-minute escape room experience is perfect for adventurers\, puzzle lovers\, and chocolate fans alike. Complete the challenge\, and you just might leave with some cosmic cacao of your own. \n📅 Thursdays\, Fridays & Saturdays\nOctober 2 – October 25\, 2025\nTimes Vary \nSpace is limited—reserve your spot before the cosmic cacao disappears! \n 
URL:https://experiencetukwila.com/event/haunted-escape-room-at-maeves-chocolate-factory/
LOCATION:Maeve Chocolate Factory\, 1180 Andover Park West\, Tukwila\, WA\, 98188\, United States
CATEGORIES:Holiday
ATTACH;FMTTYPE=image/jpeg:https://experiencetukwila.com/wp-content/uploads/2025/08/SCC_Maeve_MoonRocks_01.jpg
ORGANIZER;CN="Seattle Chocolate":MAILTO:tours@seattlechocolate.com
END:VEVENT
BEGIN:VEVENT
DTSTART;VALUE=DATE:20251004
DTEND;VALUE=DATE:20251006
DTSTAMP:20260421T232207
CREATED:20250905T235230Z
LAST-MODIFIED:20250905T235230Z
UID:15922-1759536000-1759708799@experiencetukwila.com
SUMMARY:Rainier Symphony Classics Concert
DESCRIPTION:Experience an unforgettable evening of timeless music as Rainier Symphony opens its concert season with a program that spans centuries and styles. \nThe Classics Concert will feature Beethoven’s powerful Overture to Egmont\, Florence Price’s heartfelt Adoration\, and Bartók’s lively Romanian Folk Dances. Audiences will also be treated to Debussy’s beloved Clair de lune in a lush orchestral arrangement by André Caplet\, followed by Mendelssohn’s radiant Symphony No. 4\, known as the “Italian Symphony” for its sunlit energy and spirit. \nTickets are $25. Discount tickets are available for students and seniors 62+. Children 12 and under are free. \n📅 Dates & Times \n\n\nSaturday\, October 4 at 6:30 PM \n\n\nSunday\, October 5 at 3:00 PM \n\n\nJoin Rainier Symphony for a weekend of masterworks that celebrate the beauty and breadth of classical music.
URL:https://experiencetukwila.com/event/rainier-symphony-classics-concert/
LOCATION:Foster Performing Arts Center\, 4242 S 144th St.\, Tukwila\, WA\, 98168\, United States
CATEGORIES:Live Show
ATTACH;FMTTYPE=image/jpeg:https://experiencetukwila.com/wp-content/uploads/2024/03/AdobeStock_91854391-scaled.jpeg
ORGANIZER;CN="Rainier Symphony":MAILTO:questions@RainierSymphony.org
END:VEVENT
BEGIN:VEVENT
DTSTART;TZID=America/Los_Angeles:20251010T150000
DTEND;TZID=America/Los_Angeles:20251010T190000
DTSTAMP:20260421T232207
CREATED:20251003T161204Z
LAST-MODIFIED:20251003T161204Z
UID:15937-1760108400-1760122800@experiencetukwila.com
SUMMARY:K-POP Fan Fest at Westfield Southcenter
DESCRIPTION:The ultimate K-POP party is here! Celebrate all things K-Pop with music\, style\, and fan energy you won’t want to miss. \nFestival highlights will include: \n\n\n\nMerch Booth & Vendors – shop exclusive K-Pop gear and fan favorites\nDance Challenges – show off your best moves\nK-Beauty Lounge – explore the latest skincare and beauty trends\nPhoto Booths – capture your best concert looks with friends\nBedazzling Station – customize your fan gear with sparkle and shine\nSamples\, Music & More – keep the hype going all afternoon\n\n\n\nAs a bonus\, shoppers can unlock rewards during the week leading up to the event. Between October 3–10\, spend $500–$2\,000 across participating retailers and redeem your receipts at the event desk on Level 2 for gift cards worth up to $200 to fan favorites like Din Tai Fung\, Sephora\, and Gen Korean BBQ House. \n\n\n\nSpend $500\, get $50\nSpend $1\,000\, get $100\nSpend $1\,500\, get $150\nSpend $2\,000\, get $200\n\n\n\nThis event is free and open to everyone\, but activities are first come\, first served. So grab your friends\, dress the part\, and get ready for an unforgettable afternoon celebrating everything K-POP.
URL:https://experiencetukwila.com/event/k-pop-fan-fest-at-westfield-southcenter/
LOCATION:Westfield Southcenter\, 2800 Southcenter Mall\, Tukwila\, WA\, 98188\, United States
CATEGORIES:Southcenter Mall
ATTACH;FMTTYPE=image/jpeg:https://experiencetukwila.com/wp-content/uploads/2025/10/557722910_1266004548902273_7995785390661863944_n.jpg
END:VEVENT
BEGIN:VEVENT
DTSTART;TZID=America/Los_Angeles:20251017T190000
DTEND;TZID=America/Los_Angeles:20251017T230000
DTSTAMP:20260421T232207
CREATED:20250926T222540Z
LAST-MODIFIED:20250926T222540Z
UID:15931-1760727600-1760742000@experiencetukwila.com
SUMMARY:Haunted Skies at the Museum of Flight
DESCRIPTION:This Halloween\, step into a night where history and mystery entwine. Inspired by the legendary “Night Witches” — fearless World War II aviators who flew under cover of darkness — the Museum of Flight transforms into a haunting ground of supernatural adventure. \nWander the Museum’s shadowy halls\, explore artifacts that once ruled the skies\, and dive into an evening filled with chilling tales\, eerie encounters\, and spirited fun. \nWhat Awaits You:\n\n\n\n\nSpirit Boards & Fortune TellingSeek answers from beyond with guided Ouija sessions and tarot readings led by our resident mystics. \n\n\nSpooky Story SalonGather beneath historic aircraft as storytellers share wartime ghost stories and cosmic legends that will raise the hair on your neck. \n\n\nCostume ContestDress to impress — from flight gear to witchy wear — for a chance to win prizes that honor the night’s most spellbinding looks. \n\n\n\n\nWhether you’re chasing thrills\, connecting with fellow adventurers\, or reveling in the season’s spirit\, this is a Halloween night you’ll never forget. \n🎟️ Tickets are limited — reserve yours today. \nWine\, beer and spirits will be available for purchase\, along with a selection of food trucks.
URL:https://experiencetukwila.com/event/haunted-skies-at-the-museum-of-flight/
LOCATION:Museum of Flight\, 9404 E Marginal Way S\, Tukwila\, WA\, 98108\, United States
CATEGORIES:Museum of Flight
ATTACH;FMTTYPE=image/webp:https://experiencetukwila.com/wp-content/uploads/2025/09/HauntedSkies_Calendar.jpg.webp
ORGANIZER;CN="Museum of Flight":MAILTO:info@museumofflight.org
END:VEVENT
BEGIN:VEVENT
DTSTART;TZID=America/Los_Angeles:20251018T100000
DTEND;TZID=America/Los_Angeles:20251018T160000
DTSTAMP:20260421T232207
CREATED:20251003T162923Z
LAST-MODIFIED:20251003T162944Z
UID:15943-1760781600-1760803200@experiencetukwila.com
SUMMARY:Celebrate Our Salmon at Duwamish Alive
DESCRIPTION:Join us for a day dedicated to the return of salmon and the health of our watershed at Duwamish Hill Preserve. From 10 AM – 1 PM\, roll up your sleeves alongside Friends of the Hill\, volunteer Forest Stewards\, and neighbors as we plant and restore this one-of-a-kind space. Together with hundreds of volunteers across the watershed\, we’ll care for the only river that runs through Seattle and Tukwila\, ensuring it thrives for generations to come. \nNo experience needed — all tools\, gloves\, and training are provided. Just bring yourself\, your energy\, and a smile! Register to volunteer here! \nAfter a rewarding morning of restoration\, keep the celebration going at Salmon Saturday at the Tukwila Community Center from 1–4 PM. Enjoy hands-on science activities for families\, learn more about our local ecosystem\, and watch salmon leaping in the river — a sight that captures the spirit of the season. Signup to join this event! \n 
URL:https://experiencetukwila.com/event/celebrate-our-salmon-at-duwamish-alive/
LOCATION:Duwamish Hill Preserve\, 3800 S 115th St\, Tukwila\, WA\, 98168\, United States
CATEGORIES:Volunteer
ATTACH;FMTTYPE=image/png:https://experiencetukwila.com/wp-content/uploads/2025/10/Screenshot-2025-10-03-at-9.25.35-AM.png
ORGANIZER;CN="Green Tukwila Partnership":MAILTO:Olena.Perry@TukwilaWA.gov
END:VEVENT
BEGIN:VEVENT
DTSTART;TZID=America/Los_Angeles:20251025T130000
DTEND;TZID=America/Los_Angeles:20251025T150000
DTSTAMP:20260421T232207
CREATED:20250829T162117Z
LAST-MODIFIED:20250829T162321Z
UID:15909-1761397200-1761404400@experiencetukwila.com
SUMMARY:9th Annual Pumpkin Plunge at the Tukwila Pool
DESCRIPTION:The Tukwila Pool’s Pumpkin Plunge is back! Round up your costumes\, friends\, and family for one of the most unique fall traditions in town—an afternoon of floating pumpkins\, trick-or-treating\, and swimming fun. \nWhat to Expect\n\n\n\nTrick-or-Treating – Kick off the festivities with some sweet surprises.\nCostume Contest – Show off your Halloween spirit for a chance to win at the costume contest.\nPumpkin Plunge – Find your perfect pumpkin in the floating pumpkin patch.\nFamily Open Swim – Wrap up the day with a splash alongside your family and friends.\n\n\n\nSchedule\n\n\n\n12:30–1:00 PM | Check-In\n1:00–1:30 PM | Trick-or-Treating\n1:30–2:30 PM | Pumpkin Plunge\n2:30–4:00 PM | Family Open Swim\n\n\n\nImportant Info\nThis is an in-water event. \n\n\n\nChildren 6 and under\, non-swimmers\, and anyone requiring a lifejacket must have an adult (18+) in the water with them at all times.\nGuardians (13+) must remain in the water to directly supervise those requiring assistance.\n\n\n\n🎟️ Pumpkins are limited\, and pre-registration is required. \n 
URL:https://experiencetukwila.com/event/9th-annual-pumpkin-plunge-at-the-tukwila-pool/
LOCATION:Tukwila Pool\, 4414 S 144th St\, Tukwiila\, WA\, 98168\, United States
CATEGORIES:Holiday
ATTACH;FMTTYPE=image/jpeg:https://experiencetukwila.com/wp-content/uploads/2024/09/pumpkin_TukwilaPool.jpeg
ORGANIZER;CN="tukwila pool":MAILTO:info@tukwilapool.org
END:VEVENT
BEGIN:VEVENT
DTSTART;TZID=America/Los_Angeles:20251025T150000
DTEND;TZID=America/Los_Angeles:20251025T190000
DTSTAMP:20260421T232207
CREATED:20251017T161937Z
LAST-MODIFIED:20251017T161937Z
UID:15960-1761404400-1761418800@experiencetukwila.com
SUMMARY:Trunk or Treat at Openbay Garage
DESCRIPTION:Why should the kids have all the costume fun? 🎃 \nJoin Openbay Garage for their Trunk or Treat Halloween celebration on Saturday\, October 25 from 3–7 PM where your car gets to dress up\, too! Instead of wrestling your toddler into a tiny vampire cape\, bring your ride\, deck out the trunk in its spookiest (or silliest) Halloween look\, and hand out candy to the trick-or-treaters. \nThey’ll have food vendors\, sweet treats\, and plenty of good vibes for the whole family. \n🏆 Prizes for Best Dressed Cars: \n\n\n1st Place – OBG Standard Membership ($240 value) \n\n\n2nd Place – Griot’s Garage Wash & Detail Bucket \n\n\n3rd Place – OBG T-Shirt \n\n\nAll decorated cars also get a FREE OBG swag bag\, and judging will be done by Openbay Garage staff. \nSo grab the glitter\, cobwebs\, and fake skeletons — and let your car be the star of Halloween this year! 🚗💀🍬
URL:https://experiencetukwila.com/event/trunk-or-treat-at-openbay-garage/
LOCATION:Openbay Garage\, 1055 Andover Park E\, Tukwila\, WA\, 98188\, United States
CATEGORIES:Holiday
ATTACH;FMTTYPE=image/jpeg:https://experiencetukwila.com/wp-content/uploads/2025/10/DSC08354-scaled-1.jpg
ORGANIZER;CN="Openbay Garage":MAILTO:hello@openbaygarage.com
END:VEVENT
BEGIN:VEVENT
DTSTART;TZID=America/Los_Angeles:20251026T110000
DTEND;TZID=America/Los_Angeles:20251026T160000
DTSTAMP:20260421T232207
CREATED:20250905T234849Z
LAST-MODIFIED:20250905T234849Z
UID:15919-1761476400-1761494400@experiencetukwila.com
SUMMARY:The Museum of Fright
DESCRIPTION:The Museum of Flight is once again transforming into the Museum of Fright—a Halloween celebration packed with games\, activities\, and spook-tacular fun for the whole family. Across the galleries\, you’ll find Halloween-themed adventures designed to spark imagination\, inspire innovation\, and get everyone into the Halloween spirit. \nCostumes are highly encouraged (please review the Museum’s costume policy before attending). As an added treat\, visitors 17 and under who arrive in costume will receive FREE admission. \nAll activities are free with Museum membership and included with general admission. \nGet ready for a frightful extravaganza—join us at the Museum of Fright and celebrate Halloween among the wonders of flight!
URL:https://experiencetukwila.com/event/the-museum-of-fright/
LOCATION:Museum of Flight\, 9404 E Marginal Way S\, Tukwila\, WA\, 98108\, United States
CATEGORIES:Holiday,Museum of Flight
ATTACH;FMTTYPE=image/webp:https://experiencetukwila.com/wp-content/uploads/2025/09/MuseumofFright.png.webp
ORGANIZER;CN="Museum of Flight":MAILTO:info@museumofflight.org
END:VEVENT
BEGIN:VEVENT
DTSTART;TZID=America/Los_Angeles:20251030T180000
DTEND;TZID=America/Los_Angeles:20251030T200000
DTSTAMP:20260421T232207
CREATED:20251003T161847Z
LAST-MODIFIED:20251003T161847Z
UID:15940-1761847200-1761854400@experiencetukwila.com
SUMMARY:Halloween Carnival at the Tukwila Community Center
DESCRIPTION:Tukwila’s favorite fall tradition is back! Join us at the Tukwila Community Center for a Halloween Carnival packed with festive fun for the whole family. \nWander through the spooky haunted walk\, paint your perfect pumpkin\, and try your hand at classic carnival games. Snap a costume photo at the themed booth\, enjoy live music\, and let the little ones play safely in the toddler room. \nThe evening also features live music to set the mood\, plus s’mores making and a local food truck serving up delicious bites to keep everyone fueled for the festivities. \nWith something for every age\, this carnival is the perfect way to celebrate Halloween together as a community. Bring your costumes\, your friends\, and your Halloween spirit — we’ll see you there! 👻🍬
URL:https://experiencetukwila.com/event/halloween-carnival-at-the-tukwila-community-center/
LOCATION:Tukwila Community Center\, 12424 42nd Ave S\, Tukwila\, WA\, 98168\, United States
CATEGORIES:Holiday
ATTACH;FMTTYPE=image/png:https://experiencetukwila.com/wp-content/uploads/2025/10/Screenshot-2025-10-03-at-9.17.00-AM.png
ORGANIZER;CN="Tukwila Parks and Recreation":MAILTO:ParksRec@TukwilaWA.gov
END:VEVENT
END:VCALENDAR