BEGIN:VCALENDAR
VERSION:2.0
PRODID:-//Experience Tukwila - ECPv6.15.17//NONSGML v1.0//EN
CALSCALE:GREGORIAN
METHOD:PUBLISH
X-WR-CALNAME:Experience Tukwila
X-ORIGINAL-URL:https://experiencetukwila.com
X-WR-CALDESC:Events for Experience Tukwila
REFRESH-INTERVAL;VALUE=DURATION:PT1H
X-Robots-Tag:noindex
X-PUBLISHED-TTL:PT1H
BEGIN:VTIMEZONE
TZID:America/Los_Angeles
BEGIN:DAYLIGHT
TZOFFSETFROM:-0800
TZOFFSETTO:-0700
TZNAME:PDT
DTSTART:20210314T100000
END:DAYLIGHT
BEGIN:STANDARD
TZOFFSETFROM:-0700
TZOFFSETTO:-0800
TZNAME:PST
DTSTART:20211107T090000
END:STANDARD
BEGIN:DAYLIGHT
TZOFFSETFROM:-0800
TZOFFSETTO:-0700
TZNAME:PDT
DTSTART:20220313T100000
END:DAYLIGHT
BEGIN:STANDARD
TZOFFSETFROM:-0700
TZOFFSETTO:-0800
TZNAME:PST
DTSTART:20221106T090000
END:STANDARD
BEGIN:DAYLIGHT
TZOFFSETFROM:-0800
TZOFFSETTO:-0700
TZNAME:PDT
DTSTART:20230312T100000
END:DAYLIGHT
BEGIN:STANDARD
TZOFFSETFROM:-0700
TZOFFSETTO:-0800
TZNAME:PST
DTSTART:20231105T090000
END:STANDARD
END:VTIMEZONE
BEGIN:VEVENT
DTSTART;TZID=America/Los_Angeles:20220312T103000
DTEND;TZID=America/Los_Angeles:20220312T120000
DTSTAMP:20260421T062125
CREATED:20220225T171415Z
LAST-MODIFIED:20220225T173158Z
UID:11471-1647081000-1647086400@experiencetukwila.com
SUMMARY:Ribbon Cutting Ceremony: Mayweather Boxing and Fitness
DESCRIPTION:Mayweather Boxing + Fitness is coming to Tukwila! Join them Saturday\, March 12\, for the grand opening celebration to meet the team members\, tour the beautiful facility\, and welcome them to the Tukwila business community. \nThe event starts promptly at 10:30 am with open networking and tours\, followed by key community speakers an invitation to an after-party. \nSpeakers Include:  \n\n\n\nWelcome Message from Andrea Reay\, Chamber President/CEO\nKeynote Message from Thomas Mcleod\, Tukwila Council President\nKeynote Message from Derek Speck from Tukwila’s Economic Development Office\nAudience address from Jennifer Young\, Mayweather Studio Manger\nClosing Message from Andrea Reay Followed By Ribbon Cutting\n\n\n\nRegister to attend here.
URL:https://experiencetukwila.com/event/ribbon-cutting-ceremony-mayweather-boxing-and-fitness/
LOCATION:Mayweather Boxing + Fitness\, 17125 Southcenter Pkwy\, Tukwila\, WA\, 98188\, United States
ATTACH;FMTTYPE=image/jpeg:https://experiencetukwila.com/wp-content/uploads/2022/02/MBF_Studio_Images_March2019-3-600x400-1.jpg
END:VEVENT
END:VCALENDAR